BEGIN:VCALENDAR
VERSION:2.0
PRODID:-//BADS | Bund gegen Alkohol und Drogen im Straßenverkehr e.V. - ECPv6.15.17.1//NONSGML v1.0//EN
CALSCALE:GREGORIAN
METHOD:PUBLISH
X-WR-CALNAME:BADS | Bund gegen Alkohol und Drogen im Straßenverkehr e.V.
X-ORIGINAL-URL:https://bads.de
X-WR-CALDESC:Veranstaltungen für BADS | Bund gegen Alkohol und Drogen im Straßenverkehr e.V.
REFRESH-INTERVAL;VALUE=DURATION:PT1H
X-Robots-Tag:noindex
X-PUBLISHED-TTL:PT1H
BEGIN:VTIMEZONE
TZID:Europe/Berlin
BEGIN:DAYLIGHT
TZOFFSETFROM:+0100
TZOFFSETTO:+0200
TZNAME:CEST
DTSTART:20250330T010000
END:DAYLIGHT
BEGIN:STANDARD
TZOFFSETFROM:+0200
TZOFFSETTO:+0100
TZNAME:CET
DTSTART:20251026T010000
END:STANDARD
BEGIN:DAYLIGHT
TZOFFSETFROM:+0100
TZOFFSETTO:+0200
TZNAME:CEST
DTSTART:20260329T010000
END:DAYLIGHT
BEGIN:STANDARD
TZOFFSETFROM:+0200
TZOFFSETTO:+0100
TZNAME:CET
DTSTART:20261025T010000
END:STANDARD
BEGIN:DAYLIGHT
TZOFFSETFROM:+0100
TZOFFSETTO:+0200
TZNAME:CEST
DTSTART:20270328T010000
END:DAYLIGHT
BEGIN:STANDARD
TZOFFSETFROM:+0200
TZOFFSETTO:+0100
TZNAME:CET
DTSTART:20271031T010000
END:STANDARD
END:VTIMEZONE
BEGIN:VEVENT
DTSTART;VALUE=DATE:20260424
DTEND;VALUE=DATE:20260425
DTSTAMP:20260421T155841
CREATED:20260413T094432Z
LAST-MODIFIED:20260413T121754Z
UID:4846-1776988800-1777075199@bads.de
SUMMARY:Mit dem E-Scooter bei FahrKlar
DESCRIPTION:Die Landesweite Partnerorganisation Gibachtimverkehr veranstaltet unter dem Motto FahrKlar einen Aktionstag für Schüler der Sekundarstufe II in Ehingen. Der BADS beteiligt sich mit dem E-Scooter-Simulator.
URL:https://bads.de/veranstaltung/mit-dem-e-scooter-bei-fahrklar/
CATEGORIES:Württemberg
END:VEVENT
END:VCALENDAR